{"text_format":"2","workbook":"xlsx","n_sheets":2,"sheets":["Data","Graph"],"not_rendered":{"charts":1,"images":0,"macros":0,"external_links":0,"defined_names":0,"comments":0,"pivot_tables":0},"unopened":[],"bounds":{"document_bytes":16777216,"sheet_cells":100000,"run_cost":"one","rows_first":2000,"rows_last":500,"rows_between":2000,"halvings":0,"cell_chars":16384,"cell_head_chars":4096},"cells_cut":0,"cells_raw":0,"read":"whole","date_system":"1900"}

{"sheet":"Data","index":0,"n_rows":34,"n_cols":8,"rows_kept":34,"cut":false,"hidden":false,"merged":[]}
["AVERAGE PRECIPITATION ACCUMULATION"]
["Date ","Avg Precip","Max Precip","Reports",">Trace","Trace","Snow","Accumulated Precipitation"]
[{"$nulls":7},{"$f":"IF(B3=\"\",\"\",SUM($B$3:B3))","v":""}]
[{"$nulls":7},{"$f":"IF(B4=\"\",\"\",SUM($B$3:B4))","v":""}]
[{"$nulls":7},{"$f":"IF(B5=\"\",\"\",SUM($B$3:B5))","v":""}]
[{"$nulls":7},{"$f":"IF(B6=\"\",\"\",SUM($B$3:B6))","v":""}]
[{"$nulls":7},{"$f":"IF(B7=\"\",\"\",SUM($B$3:B7))","v":""}]
[{"$nulls":7},{"$f":"IF(B8=\"\",\"\",SUM($B$3:B8))","v":""}]
[{"$nulls":7},{"$f":"IF(B9=\"\",\"\",SUM($B$3:B9))","v":""}]
[{"$nulls":7},{"$f":"IF(B10=\"\",\"\",SUM($B$3:B10))","v":""}]
[{"$nulls":7},{"$f":"IF(B11=\"\",\"\",SUM($B$3:B11))","v":""}]
[{"$nulls":7},{"$f":"IF(B12=\"\",\"\",SUM($B$3:B12))","v":""}]
[{"$nulls":7},{"$f":"IF(B13=\"\",\"\",SUM($B$3:B13))","v":""}]
[{"$nulls":7},{"$f":"IF(B14=\"\",\"\",SUM($B$3:B14))","v":""}]
[{"$nulls":7},{"$f":"IF(B15=\"\",\"\",SUM($B$3:B15))","v":""}]
[{"$nulls":7},{"$f":"IF(B16=\"\",\"\",SUM($B$3:B16))","v":""}]
[{"$nulls":7},{"$f":"IF(B17=\"\",\"\",SUM($B$3:B17))","v":""}]
[{"$nulls":7},{"$f":"IF(B18=\"\",\"\",SUM($B$3:B18))","v":""}]
[{"$nulls":7},{"$f":"IF(B19=\"\",\"\",SUM($B$3:B19))","v":""}]
[{"$nulls":7},{"$f":"IF(B20=\"\",\"\",SUM($B$3:B20))","v":""}]
[{"$nulls":7},{"$f":"IF(B21=\"\",\"\",SUM($B$3:B21))","v":""}]
[{"$nulls":7},{"$f":"IF(B22=\"\",\"\",SUM($B$3:B22))","v":""}]
[{"$nulls":7},{"$f":"IF(B23=\"\",\"\",SUM($B$3:B23))","v":""}]
[{"$nulls":7},{"$f":"IF(B24=\"\",\"\",SUM($B$3:B24))","v":""}]
[{"$nulls":7},{"$f":"IF(B25=\"\",\"\",SUM($B$3:B25))","v":""}]
[{"$nulls":7},{"$f":"IF(B26=\"\",\"\",SUM($B$3:B26))","v":""}]
[{"$nulls":7},{"$f":"IF(B27=\"\",\"\",SUM($B$3:B27))","v":""}]
[{"$nulls":7},{"$f":"IF(B28=\"\",\"\",SUM($B$3:B28))","v":""}]
[{"$nulls":7},{"$f":"IF(B29=\"\",\"\",SUM($B$3:B29))","v":""}]
[{"$nulls":7},{"$f":"IF(B30=\"\",\"\",SUM($B$3:B30))","v":""}]
[{"$nulls":7},{"$f":"IF(B31=\"\",\"\",SUM($B$3:B31))","v":""}]
[{"$nulls":7},{"$f":"IF(B32=\"\",\"\",SUM($B$3:B32))","v":""}]
[{"$nulls":7},{"$f":"IF(B33=\"\",\"\",SUM($B$3:B33))","v":""}]
[{"$nulls":7},{"$f":"IF(B34=\"\",\"\",SUM($B$3:B34))","v":""}]

{"sheet":"Graph","index":1,"n_rows":34,"n_cols":2,"rows_kept":34,"cut":false,"hidden":false,"merged":[]}
["Date","Accumulated Precipitation"]
[{"$f":"IF(Data!A3=\"\",\"\",Data!A3)","v":""},{"$f":"IF(Data!H3=\"\",NA(),Data!H3)","v":{"$error":"#N/A"}}]
[{"$f":"IF(Data!A4=\"\",\"\",Data!A4)","v":""},{"$f":"IF(Data!H4=\"\",NA(),Data!H4)","v":{"$error":"#N/A"}}]
[{"$f":"IF(Data!A5=\"\",\"\",Data!A5)","v":""},{"$f":"IF(Data!H5=\"\",NA(),Data!H5)","v":{"$error":"#N/A"}}]
[{"$f":"IF(Data!A6=\"\",\"\",Data!A6)","v":""},{"$f":"IF(Data!H6=\"\",NA(),Data!H6)","v":{"$error":"#N/A"}}]
[{"$f":"IF(Data!A7=\"\",\"\",Data!A7)","v":""},{"$f":"IF(Data!H7=\"\",NA(),Data!H7)","v":{"$error":"#N/A"}}]
[{"$f":"IF(Data!A8=\"\",\"\",Data!A8)","v":""},{"$f":"IF(Data!H8=\"\",NA(),Data!H8)","v":{"$error":"#N/A"}}]
[{"$f":"IF(Data!A9=\"\",\"\",Data!A9)","v":""},{"$f":"IF(Data!H9=\"\",NA(),Data!H9)","v":{"$error":"#N/A"}}]
[{"$f":"IF(Data!A10=\"\",\"\",Data!A10)","v":""},{"$f":"IF(Data!H10=\"\",NA(),Data!H10)","v":{"$error":"#N/A"}}]
[{"$f":"IF(Data!A11=\"\",\"\",Data!A11)","v":""},{"$f":"IF(Data!H11=\"\",NA(),Data!H11)","v":{"$error":"#N/A"}}]
[{"$f":"IF(Data!A12=\"\",\"\",Data!A12)","v":""},{"$f":"IF(Data!H12=\"\",NA(),Data!H12)","v":{"$error":"#N/A"}}]
[{"$f":"IF(Data!A13=\"\",\"\",Data!A13)","v":""},{"$f":"IF(Data!H13=\"\",NA(),Data!H13)","v":{"$error":"#N/A"}}]
[{"$f":"IF(Data!A14=\"\",\"\",Data!A14)","v":""},{"$f":"IF(Data!H14=\"\",NA(),Data!H14)","v":{"$error":"#N/A"}}]
[{"$f":"IF(Data!A15=\"\",\"\",Data!A15)","v":""},{"$f":"IF(Data!H15=\"\",NA(),Data!H15)","v":{"$error":"#N/A"}}]
[{"$f":"IF(Data!A16=\"\",\"\",Data!A16)","v":""},{"$f":"IF(Data!H16=\"\",NA(),Data!H16)","v":{"$error":"#N/A"}}]
[{"$f":"IF(Data!A17=\"\",\"\",Data!A17)","v":""},{"$f":"IF(Data!H17=\"\",NA(),Data!H17)","v":{"$error":"#N/A"}}]
[{"$f":"IF(Data!A18=\"\",\"\",Data!A18)","v":""},{"$f":"IF(Data!H18=\"\",NA(),Data!H18)","v":{"$error":"#N/A"}}]
[{"$f":"IF(Data!A19=\"\",\"\",Data!A19)","v":""},{"$f":"IF(Data!H19=\"\",NA(),Data!H19)","v":{"$error":"#N/A"}}]
[{"$f":"IF(Data!A20=\"\",\"\",Data!A20)","v":""},{"$f":"IF(Data!H20=\"\",NA(),Data!H20)","v":{"$error":"#N/A"}}]
[{"$f":"IF(Data!A21=\"\",\"\",Data!A21)","v":""},{"$f":"IF(Data!H21=\"\",NA(),Data!H21)","v":{"$error":"#N/A"}}]
[{"$f":"IF(Data!A22=\"\",\"\",Data!A22)","v":""},{"$f":"IF(Data!H22=\"\",NA(),Data!H22)","v":{"$error":"#N/A"}}]
[{"$f":"IF(Data!A23=\"\",\"\",Data!A23)","v":""},{"$f":"IF(Data!H23=\"\",NA(),Data!H23)","v":{"$error":"#N/A"}}]
[{"$f":"IF(Data!A24=\"\",\"\",Data!A24)","v":""},{"$f":"IF(Data!H24=\"\",NA(),Data!H24)","v":{"$error":"#N/A"}}]
[{"$f":"IF(Data!A25=\"\",\"\",Data!A25)","v":""},{"$f":"IF(Data!H25=\"\",NA(),Data!H25)","v":{"$error":"#N/A"}}]
[{"$f":"IF(Data!A26=\"\",\"\",Data!A26)","v":""},{"$f":"IF(Data!H26=\"\",NA(),Data!H26)","v":{"$error":"#N/A"}}]
[{"$f":"IF(Data!A27=\"\",\"\",Data!A27)","v":""},{"$f":"IF(Data!H27=\"\",NA(),Data!H27)","v":{"$error":"#N/A"}}]
[{"$f":"IF(Data!A28=\"\",\"\",Data!A28)","v":""},{"$f":"IF(Data!H28=\"\",NA(),Data!H28)","v":{"$error":"#N/A"}}]
[{"$f":"IF(Data!A29=\"\",\"\",Data!A29)","v":""},{"$f":"IF(Data!H29=\"\",NA(),Data!H29)","v":{"$error":"#N/A"}}]
[{"$f":"IF(Data!A30=\"\",\"\",Data!A30)","v":""},{"$f":"IF(Data!H30=\"\",NA(),Data!H30)","v":{"$error":"#N/A"}}]
[{"$f":"IF(Data!A31=\"\",\"\",Data!A31)","v":""},{"$f":"IF(Data!H31=\"\",NA(),Data!H31)","v":{"$error":"#N/A"}}]
[{"$f":"IF(Data!A32=\"\",\"\",Data!A32)","v":""},{"$f":"IF(Data!H32=\"\",NA(),Data!H32)","v":{"$error":"#N/A"}}]
[{"$f":"IF(Data!A33=\"\",\"\",Data!A33)","v":""},{"$f":"IF(Data!H33=\"\",NA(),Data!H33)","v":{"$error":"#N/A"}}]
[{"$f":"IF(Data!A34=\"\",\"\",Data!A34)","v":""},{"$f":"IF(Data!H34=\"\",NA(),Data!H34)","v":{"$error":"#N/A"}}]
[{"$f":"IF(Data!#REF!=\"\",\"\",Data!#REF!)","v":{"$error":"#REF!"}},{"$f":"IF(Data!#REF!=\"\",NA(),Data!#REF!)","v":{"$error":"#REF!"}}]